BEGIN:VCALENDAR
VERSION:2.0
PRODID:-//CILANE - ECPv6.15.20//NONSGML v1.0//EN
CALSCALE:GREGORIAN
METHOD:PUBLISH
X-WR-CALNAME:CILANE
X-ORIGINAL-URL:https://cilane.eu
X-WR-CALDESC:Events for CILANE
REFRESH-INTERVAL;VALUE=DURATION:PT1H
X-Robots-Tag:noindex
X-PUBLISHED-TTL:PT1H
BEGIN:VTIMEZONE
TZID:UTC
BEGIN:STANDARD
TZOFFSETFROM:+0000
TZOFFSETTO:+0000
TZNAME:UTC
DTSTART:20250101T000000
END:STANDARD
END:VTIMEZONE
BEGIN:VEVENT
DTSTART;VALUE=DATE:20260911
DTEND;VALUE=DATE:20260914
DTSTAMP:20260422T025411
CREATED:20260328T074417Z
LAST-MODIFIED:20260328T085849Z
UID:5125-1789084800-1789343999@cilane.eu
SUMMARY:IWE Neuchâtel 2026 - Save the Date
DESCRIPTION:
URL:https://cilane.eu/event/neuchatel-2026/
CATEGORIES:International Week-end 18-35,International Weekend +35
ORGANIZER;CN="AFS - Association de Familles Suisses":MAILTO:natascha.vonsury@gmail.com
END:VEVENT
BEGIN:VEVENT
DTSTART;VALUE=DATE:20260924
DTEND;VALUE=DATE:20260928
DTSTAMP:20260422T025411
CREATED:20260410T163432Z
LAST-MODIFIED:20260416T200321Z
UID:5151-1790208000-1790553599@cilane.eu
SUMMARY:IWE Rome 2026 - Save the Date
DESCRIPTION:
URL:https://cilane.eu/event/rome-2026/
CATEGORIES:International Week-end 18-35
END:VEVENT
BEGIN:VEVENT
DTSTART;VALUE=DATE:20261008
DTEND;VALUE=DATE:20261012
DTSTAMP:20260422T025411
CREATED:20260416T200043Z
LAST-MODIFIED:20260416T200043Z
UID:5158-1791417600-1791763199@cilane.eu
SUMMARY:IWE Dresden 2026 - Save the Date
DESCRIPTION:
URL:https://cilane.eu/event/dresden-2026/
CATEGORIES:International Week-end 18-35
ORGANIZER;CN="VdDA":MAILTO:cilane.germany@gmail.com
END:VEVENT
END:VCALENDAR